BEGIN:VCALENDAR
VERSION:2.0
PRODID:-//MGV &quot;Frohsinn&quot; Ummendorf e.V. - ECPv6.15.16//NONSGML v1.0//EN
CALSCALE:GREGORIAN
METHOD:PUBLISH
X-WR-CALNAME:MGV &quot;Frohsinn&quot; Ummendorf e.V.
X-ORIGINAL-URL:https://www.mgv-frohsinn-ummendorf.de
X-WR-CALDESC:Veranstaltungen für MGV &quot;Frohsinn&quot; Ummendorf e.V.
REFRESH-INTERVAL;VALUE=DURATION:PT1H
X-Robots-Tag:noindex
X-PUBLISHED-TTL:PT1H
BEGIN:VTIMEZONE
TZID:Europe/Berlin
BEGIN:DAYLIGHT
TZOFFSETFROM:+0100
TZOFFSETTO:+0200
TZNAME:CEST
DTSTART:20250330T010000
END:DAYLIGHT
BEGIN:STANDARD
TZOFFSETFROM:+0200
TZOFFSETTO:+0100
TZNAME:CET
DTSTART:20251026T010000
END:STANDARD
BEGIN:DAYLIGHT
TZOFFSETFROM:+0100
TZOFFSETTO:+0200
TZNAME:CEST
DTSTART:20260329T010000
END:DAYLIGHT
BEGIN:STANDARD
TZOFFSETFROM:+0200
TZOFFSETTO:+0100
TZNAME:CET
DTSTART:20261025T010000
END:STANDARD
BEGIN:DAYLIGHT
TZOFFSETFROM:+0100
TZOFFSETTO:+0200
TZNAME:CEST
DTSTART:20270328T010000
END:DAYLIGHT
BEGIN:STANDARD
TZOFFSETFROM:+0200
TZOFFSETTO:+0100
TZNAME:CET
DTSTART:20271031T010000
END:STANDARD
END:VTIMEZONE
BEGIN:VEVENT
DTSTART;TZID=Europe/Berlin:20260423T200000
DTEND;TZID=Europe/Berlin:20260423T213000
DTSTAMP:20260420T155540
CREATED:20260216T090410Z
LAST-MODIFIED:20260216T090410Z
UID:2476-1776974400-1776979800@www.mgv-frohsinn-ummendorf.de
SUMMARY:Probe
DESCRIPTION:
URL:https://www.mgv-frohsinn-ummendorf.de/?tribe_events=probe-64
LOCATION:Gemeindehaus
CATEGORIES:Proben
END:VEVENT
BEGIN:VEVENT
DTSTART;TZID=Europe/Berlin:20260430T200000
DTEND;TZID=Europe/Berlin:20260430T213000
DTSTAMP:20260420T155540
CREATED:20260216T090438Z
LAST-MODIFIED:20260416T071351Z
UID:2478-1777579200-1777584600@www.mgv-frohsinn-ummendorf.de
SUMMARY:Probe
DESCRIPTION:
URL:https://www.mgv-frohsinn-ummendorf.de/?tribe_events=probe-65
LOCATION:Gemeindehaus
CATEGORIES:Proben
END:VEVENT
BEGIN:VEVENT
DTSTART;TZID=Europe/Berlin:20260507T200000
DTEND;TZID=Europe/Berlin:20260507T213000
DTSTAMP:20260420T155540
CREATED:20260216T090512Z
LAST-MODIFIED:20260416T071411Z
UID:2480-1778184000-1778189400@www.mgv-frohsinn-ummendorf.de
SUMMARY:Probe
DESCRIPTION:mit anschließender Einkehr
URL:https://www.mgv-frohsinn-ummendorf.de/?tribe_events=probe-66
LOCATION:Gemeindehaus
CATEGORIES:Proben
END:VEVENT
BEGIN:VEVENT
DTSTART;TZID=Europe/Berlin:20260521T200000
DTEND;TZID=Europe/Berlin:20260521T213000
DTSTAMP:20260420T155540
CREATED:20260216T090554Z
LAST-MODIFIED:20260216T090554Z
UID:2482-1779393600-1779399000@www.mgv-frohsinn-ummendorf.de
SUMMARY:Probe
DESCRIPTION:
URL:https://www.mgv-frohsinn-ummendorf.de/?tribe_events=probe-67
LOCATION:Gemeindehaus
CATEGORIES:Proben
END:VEVENT
BEGIN:VEVENT
DTSTART;TZID=Europe/Berlin:20260528T200000
DTEND;TZID=Europe/Berlin:20260528T213000
DTSTAMP:20260420T155540
CREATED:20260216T090627Z
LAST-MODIFIED:20260322T181250Z
UID:2484-1779998400-1780003800@www.mgv-frohsinn-ummendorf.de
SUMMARY:Probe
DESCRIPTION:mit anschließender Einkehr
URL:https://www.mgv-frohsinn-ummendorf.de/?tribe_events=probe-68
LOCATION:Gemeindehaus
CATEGORIES:Proben
END:VEVENT
BEGIN:VEVENT
DTSTART;TZID=Europe/Berlin:20260528T200000
DTEND;TZID=Europe/Berlin:20260528T213000
DTSTAMP:20260420T155540
CREATED:20260216T090731Z
LAST-MODIFIED:20260216T090731Z
UID:2486-1779998400-1780003800@www.mgv-frohsinn-ummendorf.de
SUMMARY:Probe
DESCRIPTION:
URL:https://www.mgv-frohsinn-ummendorf.de/?tribe_events=probe-69
LOCATION:Gemeindehaus
CATEGORIES:Proben
END:VEVENT
BEGIN:VEVENT
DTSTART;TZID=Europe/Berlin:20260611T200000
DTEND;TZID=Europe/Berlin:20260611T213000
DTSTAMP:20260420T155540
CREATED:20260216T090838Z
LAST-MODIFIED:20260216T090838Z
UID:2488-1781208000-1781213400@www.mgv-frohsinn-ummendorf.de
SUMMARY:Probe
DESCRIPTION:
URL:https://www.mgv-frohsinn-ummendorf.de/?tribe_events=probe-70
LOCATION:Gemeindehaus
CATEGORIES:Proben
END:VEVENT
BEGIN:VEVENT
DTSTART;TZID=Europe/Berlin:20260618T200000
DTEND;TZID=Europe/Berlin:20260618T213000
DTSTAMP:20260420T155540
CREATED:20260216T090913Z
LAST-MODIFIED:20260216T090913Z
UID:2490-1781812800-1781818200@www.mgv-frohsinn-ummendorf.de
SUMMARY:Probe
DESCRIPTION:
URL:https://www.mgv-frohsinn-ummendorf.de/?tribe_events=probe-71
LOCATION:Gemeindehaus
CATEGORIES:Proben
END:VEVENT
BEGIN:VEVENT
DTSTART;TZID=Europe/Berlin:20260625T200000
DTEND;TZID=Europe/Berlin:20260625T213000
DTSTAMP:20260420T155540
CREATED:20260216T090946Z
LAST-MODIFIED:20260216T090946Z
UID:2492-1782417600-1782423000@www.mgv-frohsinn-ummendorf.de
SUMMARY:Probe
DESCRIPTION:
URL:https://www.mgv-frohsinn-ummendorf.de/?tribe_events=probe-72
LOCATION:Gemeindehaus
CATEGORIES:Proben
END:VEVENT
END:VCALENDAR